BEGIN:VCALENDAR
VERSION:2.0
PRODID:-//TAOH Africa - ECPv6.15.11//NONSGML v1.0//EN
CALSCALE:GREGORIAN
METHOD:PUBLISH
X-WR-CALNAME:TAOH Africa
X-ORIGINAL-URL:https://taohafrica.com
X-WR-CALDESC:Events for TAOH Africa
REFRESH-INTERVAL;VALUE=DURATION:PT1H
X-Robots-Tag:noindex
X-PUBLISHED-TTL:PT1H
BEGIN:VTIMEZONE
TZID:Africa/Lagos
BEGIN:STANDARD
TZOFFSETFROM:+0100
TZOFFSETTO:+0100
TZNAME:WAT
DTSTART:20230101T000000
END:STANDARD
END:VTIMEZONE
BEGIN:VEVENT
DTSTART;VALUE=DATE:20241217
DTEND;VALUE=DATE:20241218
DTSTAMP:20260423T011814
CREATED:20241218T215658Z
LAST-MODIFIED:20241218T222004Z
UID:13059-1734393600-1734479999@taohafrica.com
SUMMARY:Launching 17 December: Nengi Omuku Limited Edition
DESCRIPTION:We are excited to unveil Swing Low\, 2024\, a limited-edition artwork created in partnership with renowned Nigerian artist Nengi Omuku and pioneering arts and mental health charity\, Hospital Rooms. \nThis exclusive edition showcases Omuku’s exceptional talent and raises vital funds to support our shared mission of transforming mental health spaces in the UK and Nigeria through art. \nCollectors have the unique opportunity to own a piece of Omuku’s art while directly supporting our international initiatives. \nEach artwork is beautifully packaged in eco-friendly materials\, ready to hang with a bespoke mahogany dowel and hanging kit.
URL:https://taohafrica.com/event/launching-17-december-nengi-omuku-limited-edition/
END:VEVENT
END:VCALENDAR